BEGIN:VCALENDAR
VERSION:2.0
PRODID:-//Ocglc - ECPv5.0.0.3//NONSGML v1.0//EN
CALSCALE:GREGORIAN
METHOD:PUBLISH
X-WR-CALNAME:Ocglc
X-ORIGINAL-URL:https://ocglchurch.org
X-WR-CALDESC:Events for Ocglc
BEGIN:VTIMEZONE
TZID:Asia/Shanghai
BEGIN:STANDARD
TZOFFSETFROM:+0800
TZOFFSETTO:+0800
TZNAME:CST
DTSTART:20250101T000000
END:STANDARD
END:VTIMEZONE
BEGIN:VEVENT
DTSTART;VALUE=DATE:20250701
DTEND;VALUE=DATE:20250702
DTSTAMP:20260426T033050
CREATED:20250102T033033Z
LAST-MODIFIED:20250102T033033Z
UID:25021-1751328000-1751414399@ocglchurch.org
SUMMARY:香港特別行政區成立紀念日
DESCRIPTION:
URL:https://ocglchurch.org/event/%e9%a6%99%e6%b8%af%e7%89%b9%e5%88%a5%e8%a1%8c%e6%94%bf%e5%8d%80%e6%88%90%e7%ab%8b%e7%b4%80%e5%bf%b5%e6%97%a5-4/
CATEGORIES:假期
ATTACH;FMTTYPE=image/jpeg:https://ocglchurch.org/wp-content/uploads/2021/11/defualt-image.jpg
END:VEVENT
END:VCALENDAR