BEGIN:VCALENDAR
VERSION:2.0
PRODID:-//Ocglc - ECPv5.0.0.3//NONSGML v1.0//EN
CALSCALE:GREGORIAN
METHOD:PUBLISH
X-WR-CALNAME:Ocglc
X-ORIGINAL-URL:https://ocglchurch.org
X-WR-CALDESC:Events for Ocglc
BEGIN:VTIMEZONE
TZID:Asia/Shanghai
BEGIN:STANDARD
TZOFFSETFROM:+0800
TZOFFSETTO:+0800
TZNAME:CST
DTSTART:20250101T000000
END:STANDARD
END:VTIMEZONE
BEGIN:VEVENT
DTSTART;TZID=Asia/Shanghai:20251011T190000
DTEND;TZID=Asia/Shanghai:20251011T210000
DTSTAMP:20260425T215812
CREATED:20250102T033807Z
LAST-MODIFIED:20250102T033807Z
UID:25041-1760209200-1760216400@ocglchurch.org
SUMMARY:聖樂部敬拜讚美營會
DESCRIPTION:
URL:https://ocglchurch.org/event/%e8%81%96%e6%a8%82%e9%83%a8%e6%95%ac%e6%8b%9c%e8%ae%9a%e7%be%8e%e7%87%9f%e6%9c%83/
CATEGORIES:聖樂部
ATTACH;FMTTYPE=image/jpeg:https://ocglchurch.org/wp-content/uploads/2021/11/defualt-image.jpg
END:VEVENT
END:VCALENDAR