BEGIN:VCALENDAR
VERSION:2.0
PRODID:-//Ocglc - ECPv5.0.0.3//NONSGML v1.0//EN
CALSCALE:GREGORIAN
METHOD:PUBLISH
X-WR-CALNAME:Ocglc
X-ORIGINAL-URL:https://ocglchurch.org
X-WR-CALDESC:Events for Ocglc
BEGIN:VTIMEZONE
TZID:Asia/Shanghai
BEGIN:STANDARD
TZOFFSETFROM:+0800
TZOFFSETTO:+0800
TZNAME:CST
DTSTART:20250101T000000
END:STANDARD
END:VTIMEZONE
BEGIN:VEVENT
DTSTART;TZID=Asia/Shanghai:20250928T143000
DTEND;TZID=Asia/Shanghai:20250928T163000
DTSTAMP:20260425T202814
CREATED:20250102T033329Z
LAST-MODIFIED:20250102T033329Z
UID:25029-1759069800-1759077000@ocglchurch.org
SUMMARY:第54屆浸禮
DESCRIPTION:
URL:https://ocglchurch.org/event/%e7%ac%ac54%e5%b1%86%e6%b5%b8%e7%a6%ae-2/
CATEGORIES:全堂活動
ATTACH;FMTTYPE=image/jpeg:https://ocglchurch.org/wp-content/uploads/2021/11/defualt-image.jpg
END:VEVENT
END:VCALENDAR