BEGIN:VCALENDAR
VERSION:2.0
PRODID:-//Ocglc - ECPv5.0.0.3//NONSGML v1.0//EN
CALSCALE:GREGORIAN
METHOD:PUBLISH
X-WR-CALNAME:Ocglc
X-ORIGINAL-URL:https://ocglchurch.org
X-WR-CALDESC:Events for Ocglc
BEGIN:VTIMEZONE
TZID:Asia/Shanghai
BEGIN:STANDARD
TZOFFSETFROM:+0800
TZOFFSETTO:+0800
TZNAME:CST
DTSTART:20260101T000000
END:STANDARD
END:VTIMEZONE
BEGIN:VEVENT
DTSTART;VALUE=DATE:20260619
DTEND;VALUE=DATE:20260620
DTSTAMP:20260426T012825
CREATED:20260129T043244Z
LAST-MODIFIED:20260129T043244Z
UID:25631-1781827200-1781913599@ocglchurch.org
SUMMARY:端午節
DESCRIPTION:
URL:https://ocglchurch.org/event/%e7%ab%af%e5%8d%88%e7%af%80-5/
CATEGORIES:假期
ATTACH;FMTTYPE=image/jpeg:https://ocglchurch.org/wp-content/uploads/2021/11/defualt-image.jpg
END:VEVENT
END:VCALENDAR