BEGIN:VCALENDAR
VERSION:2.0
PRODID:-//Ocglc - ECPv5.0.0.3//NONSGML v1.0//EN
CALSCALE:GREGORIAN
METHOD:PUBLISH
X-WR-CALNAME:Ocglc
X-ORIGINAL-URL:https://ocglchurch.org
X-WR-CALDESC:Events for Ocglc
BEGIN:VTIMEZONE
TZID:Asia/Shanghai
BEGIN:STANDARD
TZOFFSETFROM:+0800
TZOFFSETTO:+0800
TZNAME:CST
DTSTART:20260101T000000
END:STANDARD
END:VTIMEZONE
BEGIN:VEVENT
DTSTART;TZID=Asia/Shanghai:20260510T000000
DTEND;TZID=Asia/Shanghai:20260510T000000
DTSTAMP:20260425T235134
CREATED:20260129T040240Z
LAST-MODIFIED:20260129T040240Z
UID:25560-1778371200-1778371200@ocglchurch.org
SUMMARY:母親節福音主日 (親子獻詩)
DESCRIPTION:
URL:https://ocglchurch.org/event/%e6%af%8d%e8%a6%aa%e7%af%80%e7%a6%8f%e9%9f%b3%e4%b8%bb%e6%97%a5-%e8%a6%aa%e5%ad%90%e7%8d%bb%e8%a9%a9/
CATEGORIES:特別主日
ATTACH;FMTTYPE=image/jpeg:https://ocglchurch.org/wp-content/uploads/2021/11/defualt-image.jpg
END:VEVENT
END:VCALENDAR