BEGIN:VCALENDAR
VERSION:2.0
PRODID:-//Ocglc - ECPv5.0.0.3//NONSGML v1.0//EN
CALSCALE:GREGORIAN
METHOD:PUBLISH
X-WR-CALNAME:Ocglc
X-ORIGINAL-URL:https://ocglchurch.org
X-WR-CALDESC:Events for Ocglc
BEGIN:VTIMEZONE
TZID:Asia/Shanghai
BEGIN:STANDARD
TZOFFSETFROM:+0800
TZOFFSETTO:+0800
TZNAME:CST
DTSTART:20260101T000000
END:STANDARD
END:VTIMEZONE
BEGIN:VEVENT
DTSTART;TZID=Asia/Shanghai:20260328T000000
DTEND;TZID=Asia/Shanghai:20260328T000000
DTSTAMP:20260425T235209
CREATED:20260129T035541Z
LAST-MODIFIED:20260129T035541Z
UID:25548-1774656000-1774656000@ocglchurch.org
SUMMARY:探訪部分區共聚「初體現」(新界東北區)
DESCRIPTION:
URL:https://ocglchurch.org/event/%e6%8e%a2%e8%a8%aa%e9%83%a8%e5%88%86%e5%8d%80%e5%85%b1%e8%81%9a%e3%80%8c%e5%88%9d%e9%ab%94%e7%8f%be%e3%80%8d%e6%96%b0%e7%95%8c%e6%9d%b1%e5%8c%97%e5%8d%80/
CATEGORIES:探訪部
ATTACH;FMTTYPE=image/jpeg:https://ocglchurch.org/wp-content/uploads/2021/11/defualt-image.jpg
END:VEVENT
END:VCALENDAR