BEGIN:VCALENDAR
VERSION:2.0
PRODID:-//Ocglc - ECPv5.0.0.3//NONSGML v1.0//EN
CALSCALE:GREGORIAN
METHOD:PUBLISH
X-WR-CALNAME:Ocglc
X-ORIGINAL-URL:https://ocglchurch.org
X-WR-CALDESC:Events for Ocglc
BEGIN:VTIMEZONE
TZID:Asia/Shanghai
BEGIN:STANDARD
TZOFFSETFROM:+0800
TZOFFSETTO:+0800
TZNAME:CST
DTSTART:20260101T000000
END:STANDARD
END:VTIMEZONE
BEGIN:VEVENT
DTSTART;TZID=Asia/Shanghai:20260614T000000
DTEND;TZID=Asia/Shanghai:20260614T000000
DTSTAMP:20260426T012331
CREATED:20260129T040709Z
LAST-MODIFIED:20260129T040709Z
UID:25568-1781395200-1781395200@ocglchurch.org
SUMMARY:成年部「何以解憂」講座
DESCRIPTION:
URL:https://ocglchurch.org/event/%e6%88%90%e5%b9%b4%e9%83%a8%e3%80%8c%e4%bd%95%e4%bb%a5%e8%a7%a3%e6%86%82%e3%80%8d%e8%ac%9b%e5%ba%a7/
CATEGORIES:成年部
ATTACH;FMTTYPE=image/jpeg:https://ocglchurch.org/wp-content/uploads/2021/11/defualt-image.jpg
END:VEVENT
END:VCALENDAR