BEGIN:VCALENDAR
VERSION:2.0
PRODID:-//Ocglc - ECPv5.0.0.3//NONSGML v1.0//EN
CALSCALE:GREGORIAN
METHOD:PUBLISH
X-WR-CALNAME:Ocglc
X-ORIGINAL-URL:https://ocglchurch.org
X-WR-CALDESC:Events for Ocglc
BEGIN:VTIMEZONE
TZID:Asia/Shanghai
BEGIN:STANDARD
TZOFFSETFROM:+0800
TZOFFSETTO:+0800
TZNAME:CST
DTSTART:20260101T000000
END:STANDARD
END:VTIMEZONE
BEGIN:VEVENT
DTSTART;TZID=Asia/Shanghai:20260222T000000
DTEND;TZID=Asia/Shanghai:20260222T000000
DTSTAMP:20260426T013259
CREATED:20260129T035106Z
LAST-MODIFIED:20260129T035106Z
UID:25542-1771718400-1771718400@ocglchurch.org
SUMMARY:愛筵，新春團拜暨感恩分享會
DESCRIPTION:
URL:https://ocglchurch.org/event/%e6%84%9b%e7%ad%b5%ef%bc%8c%e6%96%b0%e6%98%a5%e5%9c%98%e6%8b%9c%e6%9a%a8%e6%84%9f%e6%81%a9%e5%88%86%e4%ba%ab%e6%9c%83/
CATEGORIES:全堂活動
ATTACH;FMTTYPE=image/jpeg:https://ocglchurch.org/wp-content/uploads/2021/11/defualt-image.jpg
END:VEVENT
END:VCALENDAR