BEGIN:VCALENDAR
VERSION:2.0
PRODID:-//Ocglc - ECPv5.0.0.3//NONSGML v1.0//EN
CALSCALE:GREGORIAN
METHOD:PUBLISH
X-WR-CALNAME:Ocglc
X-ORIGINAL-URL:https://ocglchurch.org
X-WR-CALDESC:Events for Ocglc
BEGIN:VTIMEZONE
TZID:Asia/Shanghai
BEGIN:STANDARD
TZOFFSETFROM:+0800
TZOFFSETTO:+0800
TZNAME:CST
DTSTART:20260101T000000
END:STANDARD
END:VTIMEZONE
BEGIN:VEVENT
DTSTART;TZID=Asia/Shanghai:20260524T000000
DTEND;TZID=Asia/Shanghai:20260524T000000
DTSTAMP:20260426T011054
CREATED:20260129T040528Z
LAST-MODIFIED:20260129T040528Z
UID:25564-1779580800-1779580800@ocglchurch.org
SUMMARY:堂慶感恩崇拜
DESCRIPTION:
URL:https://ocglchurch.org/event/%e5%a0%82%e6%85%b6%e6%84%9f%e6%81%a9%e5%b4%87%e6%8b%9c/
CATEGORIES:特別主日
ATTACH;FMTTYPE=image/jpeg:https://ocglchurch.org/wp-content/uploads/2021/11/defualt-image.jpg
END:VEVENT
END:VCALENDAR