BEGIN:VCALENDAR
VERSION:2.0
PRODID:-//Ocglc - ECPv5.0.0.3//NONSGML v1.0//EN
CALSCALE:GREGORIAN
METHOD:PUBLISH
X-WR-CALNAME:Ocglc
X-ORIGINAL-URL:https://ocglchurch.org
X-WR-CALDESC:Events for Ocglc
BEGIN:VTIMEZONE
TZID:Asia/Shanghai
BEGIN:STANDARD
TZOFFSETFROM:+0800
TZOFFSETTO:+0800
TZNAME:CST
DTSTART:20260101T000000
END:STANDARD
END:VTIMEZONE
BEGIN:VEVENT
DTSTART;VALUE=DATE:20260404
DTEND;VALUE=DATE:20260405
DTSTAMP:20260425T234320
CREATED:20260129T042741Z
LAST-MODIFIED:20260129T042741Z
UID:25617-1775260800-1775347199@ocglchurch.org
SUMMARY:受苦節翌日
DESCRIPTION:
URL:https://ocglchurch.org/event/%e5%8f%97%e8%8b%a6%e7%af%80%e7%bf%8c%e6%97%a5-2/
CATEGORIES:假期
ATTACH;FMTTYPE=image/jpeg:https://ocglchurch.org/wp-content/uploads/2021/11/defualt-image.jpg
END:VEVENT
END:VCALENDAR