BEGIN:VCALENDAR
VERSION:2.0
PRODID:-//Ocglc - ECPv5.0.0.3//NONSGML v1.0//EN
CALSCALE:GREGORIAN
METHOD:PUBLISH
X-WR-CALNAME:Ocglc
X-ORIGINAL-URL:https://ocglchurch.org
X-WR-CALDESC:Events for Ocglc
BEGIN:VTIMEZONE
TZID:Asia/Shanghai
BEGIN:STANDARD
TZOFFSETFROM:+0800
TZOFFSETTO:+0800
TZNAME:CST
DTSTART:20260101T000000
END:STANDARD
END:VTIMEZONE
BEGIN:VEVENT
DTSTART;TZID=Asia/Shanghai:20260403T190000
DTEND;TZID=Asia/Shanghai:20260403T190000
DTSTAMP:20260425T234928
CREATED:20260129T035740Z
LAST-MODIFIED:20260129T035740Z
UID:25552-1775242800-1775242800@ocglchurch.org
SUMMARY:受苦節崇拜
DESCRIPTION:
URL:https://ocglchurch.org/event/%e5%8f%97%e8%8b%a6%e7%af%80%e5%b4%87%e6%8b%9c-4/
CATEGORIES:全堂活動
ATTACH;FMTTYPE=image/jpeg:https://ocglchurch.org/wp-content/uploads/2021/11/defualt-image.jpg
END:VEVENT
END:VCALENDAR