BEGIN:VCALENDAR
VERSION:2.0
PRODID:-//Ocglc - ECPv5.0.0.3//NONSGML v1.0//EN
CALSCALE:GREGORIAN
METHOD:PUBLISH
X-WR-CALNAME:Ocglc
X-ORIGINAL-URL:https://ocglchurch.org
X-WR-CALDESC:Events for Ocglc
BEGIN:VTIMEZONE
TZID:Asia/Shanghai
BEGIN:STANDARD
TZOFFSETFROM:+0800
TZOFFSETTO:+0800
TZNAME:CST
DTSTART:20260101T000000
END:STANDARD
END:VTIMEZONE
BEGIN:VEVENT
DTSTART;TZID=Asia/Shanghai:20260501T000000
DTEND;TZID=Asia/Shanghai:20260501T000000
DTSTAMP:20260425T235102
CREATED:20260129T040038Z
LAST-MODIFIED:20260129T040038Z
UID:25558-1777593600-1777593600@ocglchurch.org
SUMMARY:全堂讀經日營
DESCRIPTION:
URL:https://ocglchurch.org/event/%e5%85%a8%e5%a0%82%e8%ae%80%e7%b6%93%e6%97%a5%e7%87%9f/
CATEGORIES:全堂活動
ATTACH;FMTTYPE=image/jpeg:https://ocglchurch.org/wp-content/uploads/2021/11/defualt-image.jpg
END:VEVENT
END:VCALENDAR