BEGIN:VCALENDAR
VERSION:2.0
PRODID:-//Ocglc - ECPv5.0.0.3//NONSGML v1.0//EN
CALSCALE:GREGORIAN
METHOD:PUBLISH
X-WR-CALNAME:Ocglc
X-ORIGINAL-URL:https://ocglchurch.org
X-WR-CALDESC:Events for Ocglc
BEGIN:VTIMEZONE
TZID:Asia/Shanghai
BEGIN:STANDARD
TZOFFSETFROM:+0800
TZOFFSETTO:+0800
TZNAME:CST
DTSTART:20260101T000000
END:STANDARD
END:VTIMEZONE
BEGIN:VEVENT
DTSTART;TZID=Asia/Shanghai:20260104T103000
DTEND;TZID=Asia/Shanghai:20260104T103000
DTSTAMP:20260426T030219
CREATED:20260129T034439Z
LAST-MODIFIED:20260129T034439Z
UID:25528-1767522600-1767522600@ocglchurch.org
SUMMARY:全堂異象分享會
DESCRIPTION:
URL:https://ocglchurch.org/event/%e5%85%a8%e5%a0%82%e7%95%b0%e8%b1%a1%e5%88%86%e4%ba%ab%e6%9c%83/
CATEGORIES:全堂活動
ATTACH;FMTTYPE=image/jpeg:https://ocglchurch.org/wp-content/uploads/2021/11/defualt-image.jpg
END:VEVENT
END:VCALENDAR