BEGIN:VCALENDAR
VERSION:2.0
PRODID:-//Ocglc - ECPv5.0.0.3//NONSGML v1.0//EN
CALSCALE:GREGORIAN
METHOD:PUBLISH
X-WR-CALNAME:Ocglc
X-ORIGINAL-URL:https://ocglchurch.org
X-WR-CALDESC:Events for Ocglc
BEGIN:VTIMEZONE
TZID:Asia/Shanghai
BEGIN:STANDARD
TZOFFSETFROM:+0800
TZOFFSETTO:+0800
TZNAME:CST
DTSTART:20260101T000000
END:STANDARD
END:VTIMEZONE
BEGIN:VEVENT
DTSTART;TZID=Asia/Shanghai:20260403T000000
DTEND;TZID=Asia/Shanghai:20260403T000000
DTSTAMP:20260425T235031
CREATED:20260129T035639Z
LAST-MODIFIED:20260129T035639Z
UID:25550-1775174400-1775174400@ocglchurch.org
SUMMARY:全堂事奉人員退修日
DESCRIPTION:
URL:https://ocglchurch.org/event/%e5%85%a8%e5%a0%82%e4%ba%8b%e5%a5%89%e4%ba%ba%e5%93%a1%e9%80%80%e4%bf%ae%e6%97%a5/
CATEGORIES:全堂活動
ATTACH;FMTTYPE=image/jpeg:https://ocglchurch.org/wp-content/uploads/2021/11/defualt-image.jpg
END:VEVENT
END:VCALENDAR