BEGIN:VCALENDAR
VERSION:2.0
PRODID:-//Ocglc - ECPv5.0.0.3//NONSGML v1.0//EN
CALSCALE:GREGORIAN
METHOD:PUBLISH
X-WR-CALNAME:Ocglc
X-ORIGINAL-URL:https://ocglchurch.org
X-WR-CALDESC:Events for Ocglc
BEGIN:VTIMEZONE
TZID:Asia/Shanghai
BEGIN:STANDARD
TZOFFSETFROM:+0800
TZOFFSETTO:+0800
TZNAME:CST
DTSTART:20250101T000000
END:STANDARD
END:VTIMEZONE
BEGIN:VEVENT
DTSTART;TZID=Asia/Shanghai:20250715T093000
DTEND;TZID=Asia/Shanghai:20250719T123000
DTSTAMP:20260425T235740
CREATED:20250503T140225Z
LAST-MODIFIED:20250503T140225Z
UID:25230-1752571800-1752928200@ocglchurch.org
SUMMARY:兒童暑期活動
DESCRIPTION:
URL:https://ocglchurch.org/event/%e5%85%92%e7%ab%a5%e6%9a%91%e6%9c%9f%e6%b4%bb%e5%8b%95/
CATEGORIES:兒童部
ATTACH;FMTTYPE=image/jpeg:https://ocglchurch.org/wp-content/uploads/2021/11/defualt-image.jpg
END:VEVENT
END:VCALENDAR