BEGIN:VCALENDAR
VERSION:2.0
PRODID:-//Ocglc - ECPv5.0.0.3//NONSGML v1.0//EN
CALSCALE:GREGORIAN
METHOD:PUBLISH
X-WR-CALNAME:Ocglc
X-ORIGINAL-URL:https://ocglchurch.org
X-WR-CALDESC:Events for Ocglc
BEGIN:VTIMEZONE
TZID:Asia/Shanghai
BEGIN:STANDARD
TZOFFSETFROM:+0800
TZOFFSETTO:+0800
TZNAME:CST
DTSTART:20260101T000000
END:STANDARD
END:VTIMEZONE
BEGIN:VEVENT
DTSTART;TZID=Asia/Shanghai:20260321T000000
DTEND;TZID=Asia/Shanghai:20260321T000000
DTSTAMP:20260425T235037
CREATED:20260129T035310Z
LAST-MODIFIED:20260129T035347Z
UID:25546-1774051200-1774051200@ocglchurch.org
SUMMARY:傳道部個人佈訓練
DESCRIPTION:
URL:https://ocglchurch.org/event/%e5%82%b3%e9%81%93%e9%83%a8%e5%80%8b%e4%ba%ba%e4%bd%88%e8%a8%93%e7%b7%b4-2/
CATEGORIES:傳道部
ATTACH;FMTTYPE=image/jpeg:https://ocglchurch.org/wp-content/uploads/2021/11/defualt-image.jpg
END:VEVENT
END:VCALENDAR