BEGIN:VCALENDAR
VERSION:2.0
PRODID:-//Ocglc - ECPv5.0.0.3//NONSGML v1.0//EN
CALSCALE:GREGORIAN
METHOD:PUBLISH
X-WR-CALNAME:Ocglc
X-ORIGINAL-URL:https://ocglchurch.org
X-WR-CALDESC:Events for Ocglc
BEGIN:VTIMEZONE
TZID:Asia/Shanghai
BEGIN:STANDARD
TZOFFSETFROM:+0800
TZOFFSETTO:+0800
TZNAME:CST
DTSTART:20260101T000000
END:STANDARD
END:VTIMEZONE
BEGIN:VEVENT
DTSTART;VALUE=DATE:20260525
DTEND;VALUE=DATE:20260526
DTSTAMP:20260425T234922
CREATED:20260129T043210Z
LAST-MODIFIED:20260129T043210Z
UID:25629-1779667200-1779753599@ocglchurch.org
SUMMARY:佛誕翌日
DESCRIPTION:
URL:https://ocglchurch.org/event/%e4%bd%9b%e8%aa%95%e7%bf%8c%e6%97%a5/
CATEGORIES:假期
ATTACH;FMTTYPE=image/jpeg:https://ocglchurch.org/wp-content/uploads/2021/11/defualt-image.jpg
END:VEVENT
END:VCALENDAR