BEGIN:VCALENDAR
VERSION:2.0
PRODID:-//Ocglc - ECPv5.0.0.3//NONSGML v1.0//EN
CALSCALE:GREGORIAN
METHOD:PUBLISH
X-WR-CALNAME:Ocglc
X-ORIGINAL-URL:https://ocglchurch.org
X-WR-CALDESC:Events for Ocglc
BEGIN:VTIMEZONE
TZID:Asia/Shanghai
BEGIN:STANDARD
TZOFFSETFROM:+0800
TZOFFSETTO:+0800
TZNAME:CST
DTSTART:20250101T000000
END:STANDARD
END:VTIMEZONE
BEGIN:VEVENT
DTSTART;TZID=Asia/Shanghai:20251005T103000
DTEND;TZID=Asia/Shanghai:20251005T123000
DTSTAMP:20260425T164102
CREATED:20250102T033636Z
LAST-MODIFIED:20250102T033636Z
UID:25037-1759660200-1759667400@ocglchurch.org
SUMMARY:中秋節福音主日
DESCRIPTION:
URL:https://ocglchurch.org/event/%e4%b8%ad%e7%a7%8b%e7%af%80%e7%a6%8f%e9%9f%b3%e4%b8%bb%e6%97%a5/
CATEGORIES:全堂活動
ATTACH;FMTTYPE=image/jpeg:https://ocglchurch.org/wp-content/uploads/2021/11/defualt-image.jpg
END:VEVENT
END:VCALENDAR